BEGIN:VCALENDAR
VERSION:2.0
PRODID:-//Tukios.com/
BEGIN:VEVENT
UID:edaf079c-5dc2-4793-a3a7-62a69ac2ffe4@www.skradskifh-kc.com
DTSTAMP:20260424T023054Z
DTSTART:20260502T153000Z
DTEND:20260502T163000Z
SUMMARY:Rosary
DESCRIPTION:
URL:https://www.skradskifh-kc.com/obituaries/christine-braun
LOCATION: 708 N 4th St  Kansas City KS 66101
GEO:39.1130958;-94.6190299
END:VEVENT
END:VCALENDAR