BEGIN:VCALENDAR
VERSION:2.0
PRODID:-//Tukios.com/
BEGIN:VEVENT
UID:cc8b624e-a945-468e-8d7c-23e87ee385f1@www.skradskifh-kc.com
DTSTAMP:20260424T023103Z
DTSTART:20260502T160000Z
DTEND:20260502T170000Z
SUMMARY:Mass
DESCRIPTION:
URL:https://www.skradskifh-kc.com/obituaries/christine-braun
LOCATION:St. John the Baptist Catholic Church 708 N 4th St  Kansas City 
	KS 66101
GEO:39.1130958;-94.6190299
END:VEVENT
END:VCALENDAR