BEGIN:VCALENDAR
VERSION:2.0
PRODID:-//Tukios.com/
BEGIN:VEVENT
UID:c51db25c-1c85-40b5-b0dc-44c8b6de077c@www.skradskifh-kc.com
DTSTAMP:20260424T022934Z
DTSTART:20260502T140000Z
DTEND:20260502T153000Z
SUMMARY:Visitation
DESCRIPTION:
URL:https://www.skradskifh-kc.com/obituaries/christine-braun
LOCATION:St. John the Baptist Catholic Church 708 N 4th St  Kansas City 
	KS 66101
GEO:39.1130958;-94.6190299
END:VEVENT
END:VCALENDAR